BEGIN:VCALENDAR
VERSION:2.0
PRODID:Imitheme.com 
BEGIN:VEVENT
UID:20260422T024544744091312
DTSTAMP;TZID=UTC:2026-04-22 02:45:44
DTSTART;TZID=America/Los_Angeles:20260418T000000
DTEND;TZID=America/Los_Angeles:20260418T000000
SUMMARY:Eats and Beats &amp; Pickleball Tournament
LOCATION:
DESCRIPTION:Details coming soon. Save the date!
URL:https://www.wwwcccl.com/event/eats-and-beats-pickleballtournament/
END:VEVENT
END:VCALENDAR
