BEGIN:VCALENDAR
VERSION:2.0
PRODID:Imitheme.com 
BEGIN:VEVENT
UID:20260423T1352251485546724
DTSTAMP;TZID=UTC:2026-04-23 13:52:25
DTSTART;TZID=America/Los_Angeles:20250906T000000
DTEND;TZID=America/Los_Angeles:20250906T000000
SUMMARY:Eats and Beats 2025
LOCATION:
DESCRIPTION:🎉 Community Celebration & Fireworks! Fun for the Whole Family! 🎉 📅 Saturday, September 6, 2025 🕒 Festivities begin at 3:00 PM — stay late for the Fireworks Finale (around 9:00 PM)! ✨ Event Highlights: - Live Music - Petting Zoo 🐐 - Face Painting & Games 🎨🎶 - Food Trucks - Beer Gardens 🍻 - 50/50 Raffle 🌟 Don’t forget to stop by the Membership Table to buy your community membership for the 2025/2026 term, connect with the league, and learn more about what we’re working on in the community. 💛 This event is proudly hosted by Westridge Wolf Willow Country Club Community League 💛 Special thanks to our sponsors Darrell Friesen and Jasen Reboh. Stay connected: 🌐 www.wwwcccl.com 📸 @westridgeoleskiw 📘 Facebook.com/WWWCCCL Eats & Beats 2025 ➡️ Looking for the 2025 Annual Eats & Beats Pickleball Tournament? 🏓 Head here!
URL:https://www.wwwcccl.com/event/eats-and-beats-2025/
END:VEVENT
END:VCALENDAR
