BEGIN:VCALENDAR
VERSION:2.0
PRODID:Imitheme.com 
BEGIN:VEVENT
UID:20260423T064055904153889
DTSTAMP;TZID=UTC:2026-04-23 06:40:55
DTSTART;TZID=America/Los_Angeles:20241024T000000
DTEND;TZID=America/Los_Angeles:20241024T000000
SUMMARY:Genealogy &amp; Historic Edmonton
LOCATION:9629 176 St NW\, Edmonton\, AB T5T 6B3
DESCRIPTION:- Thursday, October 24, 2024 –    8:45 to 11:30 a.m. - Harry Farmer Room
URL:https://www.wwwcccl.com/event/genealogy-historic-edmonton/
END:VEVENT
END:VCALENDAR
